BEGIN:VCALENDAR
VERSION:2.0
PRODID:-//Die Weingüter Bretzfeld e.V. - ECPv6.15.20//NONSGML v1.0//EN
CALSCALE:GREGORIAN
METHOD:PUBLISH
X-ORIGINAL-URL:https://weingueter-bretzfeld.de
X-WR-CALDESC:Veranstaltungen für Die Weingüter Bretzfeld e.V.
REFRESH-INTERVAL;VALUE=DURATION:PT1H
X-Robots-Tag:noindex
X-PUBLISHED-TTL:PT1H
BEGIN:VTIMEZONE
TZID:Europe/Berlin
BEGIN:DAYLIGHT
TZOFFSETFROM:+0100
TZOFFSETTO:+0200
TZNAME:CEST
DTSTART:20230326T010000
END:DAYLIGHT
BEGIN:STANDARD
TZOFFSETFROM:+0200
TZOFFSETTO:+0100
TZNAME:CET
DTSTART:20231029T010000
END:STANDARD
BEGIN:DAYLIGHT
TZOFFSETFROM:+0100
TZOFFSETTO:+0200
TZNAME:CEST
DTSTART:20240331T010000
END:DAYLIGHT
BEGIN:STANDARD
TZOFFSETFROM:+0200
TZOFFSETTO:+0100
TZNAME:CET
DTSTART:20241027T010000
END:STANDARD
BEGIN:DAYLIGHT
TZOFFSETFROM:+0100
TZOFFSETTO:+0200
TZNAME:CEST
DTSTART:20250330T010000
END:DAYLIGHT
BEGIN:STANDARD
TZOFFSETFROM:+0200
TZOFFSETTO:+0100
TZNAME:CET
DTSTART:20251026T010000
END:STANDARD
END:VTIMEZONE
BEGIN:VEVENT
DTSTART;VALUE=DATE:20240204
DTEND;VALUE=DATE:20240205
DTSTAMP:20260422T070422
CREATED:20240103T160352Z
LAST-MODIFIED:20240103T160352Z
UID:1996-1707004800-1707091199@weingueter-bretzfeld.de
SUMMARY:Hallenfest - WG Weibler
DESCRIPTION:Jahresauftakt in die Festsaison in der beheizten Festhalle
URL:https://weingueter-bretzfeld.de/veranstaltung/hallenfest-wg-weibler-2/
LOCATION:Weingut Weibler\, Wengertstr. 8\, Bretzfeld\, 74626\, Deutschland
CATEGORIES:Weinevents
ORGANIZER;CN="Weingut Weibler":MAILTO:info@weibler.de
END:VEVENT
BEGIN:VEVENT
DTSTART;VALUE=DATE:20240208
DTEND;VALUE=DATE:20240212
DTSTAMP:20260422T070423
CREATED:20240103T155243Z
LAST-MODIFIED:20240103T155243Z
UID:1986-1707350400-1707695999@weingueter-bretzfeld.de
SUMMARY:Besen - WG Borth
DESCRIPTION:Hohenloher Weinstube- Haus der regionalen Küche \nSeit 1977 bewirtet Sie die Familie Borth mit Besengerichten\, sowie regionaler Hausmannnskost und Hohenloher Spezialiäten\, in ihrer urigen Weinstube.
URL:https://weingueter-bretzfeld.de/veranstaltung/besen-wg-borth-16/
LOCATION:Weingut Borth\, Unterheimbacher Str. 35\, Bretzfeld\, 74626\, Deutschland
CATEGORIES:Besentermine
ORGANIZER;CN="Weingut Borth":MAILTO:info@weingut-borth.de
END:VEVENT
BEGIN:VEVENT
DTSTART;VALUE=DATE:20240208
DTEND;VALUE=DATE:20240213
DTSTAMP:20260422T070423
CREATED:20240103T152559Z
LAST-MODIFIED:20240103T152559Z
UID:1967-1707350400-1707782399@weingueter-bretzfeld.de
SUMMARY:Besen - WG Weihbrecht
DESCRIPTION:Unsere Besenwirtschaft gibt es seit 1983\nRegional und traditionell \nEinmal im Monat öffnen wir unsere Besenwirtschaft (Weinstube) und laden Sie ein unsere edlen Weine und vielseitigen Besengerichte vor Ort zu genießen. Besuchen Sie uns nach einer Wanderung im Himmelreich\, oder mit netten Freunden am Abend.
URL:https://weingueter-bretzfeld.de/veranstaltung/besen-wg-weihbrecht-14/
LOCATION:Weingut Weihbrecht\, Hauptstraße 20\, Bretzfeld\, 74626\, Deutschland
CATEGORIES:Besentermine
ORGANIZER;CN="Weingut Weihbrecht":MAILTO:info@weingut-weihbrecht.de
END:VEVENT
BEGIN:VEVENT
DTSTART;VALUE=DATE:20240222
DTEND;VALUE=DATE:20240226
DTSTAMP:20260422T070423
CREATED:20240103T155509Z
LAST-MODIFIED:20240103T155509Z
UID:1988-1708560000-1708905599@weingueter-bretzfeld.de
SUMMARY:Besen - WG Borth
DESCRIPTION:Hohenloher Weinstube- Haus der regionalen Küche \nSeit 1977 bewirtet Sie die Familie Borth mit Besengerichten\, sowie regionaler Hausmannnskost und Hohenloher Spezialiäten\, in ihrer urigen Weinstube.
URL:https://weingueter-bretzfeld.de/veranstaltung/besen-wg-borth-18/
LOCATION:Weingut Borth\, Unterheimbacher Str. 35\, Bretzfeld\, 74626\, Deutschland
CATEGORIES:Besentermine
ORGANIZER;CN="Weingut Borth":MAILTO:info@weingut-borth.de
END:VEVENT
END:VCALENDAR