BEGIN:VCALENDAR
VERSION:2.0
PRODID:-//Die Weingüter Bretzfeld e.V. - ECPv6.15.20//NONSGML v1.0//EN
CALSCALE:GREGORIAN
METHOD:PUBLISH
X-WR-CALNAME:Die Weingüter Bretzfeld e.V.
X-ORIGINAL-URL:https://weingueter-bretzfeld.de
X-WR-CALDESC:Veranstaltungen für Die Weingüter Bretzfeld e.V.
REFRESH-INTERVAL;VALUE=DURATION:PT1H
X-Robots-Tag:noindex
X-PUBLISHED-TTL:PT1H
BEGIN:VTIMEZONE
TZID:Europe/Berlin
BEGIN:DAYLIGHT
TZOFFSETFROM:+0100
TZOFFSETTO:+0200
TZNAME:CEST
DTSTART:20230326T010000
END:DAYLIGHT
BEGIN:STANDARD
TZOFFSETFROM:+0200
TZOFFSETTO:+0100
TZNAME:CET
DTSTART:20231029T010000
END:STANDARD
BEGIN:DAYLIGHT
TZOFFSETFROM:+0100
TZOFFSETTO:+0200
TZNAME:CEST
DTSTART:20240331T010000
END:DAYLIGHT
BEGIN:STANDARD
TZOFFSETFROM:+0200
TZOFFSETTO:+0100
TZNAME:CET
DTSTART:20241027T010000
END:STANDARD
BEGIN:DAYLIGHT
TZOFFSETFROM:+0100
TZOFFSETTO:+0200
TZNAME:CEST
DTSTART:20250330T010000
END:DAYLIGHT
BEGIN:STANDARD
TZOFFSETFROM:+0200
TZOFFSETTO:+0100
TZNAME:CET
DTSTART:20251026T010000
END:STANDARD
END:VTIMEZONE
BEGIN:VEVENT
DTSTART;VALUE=DATE:20240307
DTEND;VALUE=DATE:20240310
DTSTAMP:20260422T054647
CREATED:20240103T154022Z
LAST-MODIFIED:20240105T095757Z
UID:1976-1709769600-1710028799@weingueter-bretzfeld.de
SUMMARY:Rebenglühen
DESCRIPTION:Der Verein „Die Weingüter Bretzfeld e.V.“ plant für März 2024 wiedermit seinem beliebten Freiluft-Event im Weinberg: „Rebenglühen Bretzfeld – Wenn der Berg fürden Wein brennt.“ \n​ \nWieder findet das Event in einer anderen Bretzfelder Weinlage\, dieses Maldem „Adolzfurter Schneckenhof“ statt. An diesem Berg findet das Rebenglühen zum zweitenMal nach 2020 statt. Die acht Weingüter und die Weinkellerei Hohenlohe eG bewirten IhreGäste an insgesamt 10 Ständen mit rund 70 verschiedenen Weinen und 18 verschiedenenSpeisen. Damit halten die Wengerter am bewährten Konzept mit Lichtspektakel\, Feuer\,Genuss\, Vielfalt und schöner Stimmung im Weinberg fest. Der über 3km lange Rundweg führtüber den gesamten Weinberg. \n  \nhttps://www.rebengluehen.de/
URL:https://weingueter-bretzfeld.de/veranstaltung/rebengluehen-2/
CATEGORIES:Weinevents
ORGANIZER;CN="Weingut%09Busch":MAILTO:info@karlbusch-wein.de
END:VEVENT
BEGIN:VEVENT
DTSTART;VALUE=DATE:20240321
DTEND;VALUE=DATE:20240325
DTSTAMP:20260422T054647
CREATED:20240103T155552Z
LAST-MODIFIED:20240103T155552Z
UID:1990-1710979200-1711324799@weingueter-bretzfeld.de
SUMMARY:Besen - WG Borth
DESCRIPTION:Hohenloher Weinstube- Haus der regionalen Küche \nSeit 1977 bewirtet Sie die Familie Borth mit Besengerichten\, sowie regionaler Hausmannnskost und Hohenloher Spezialiäten\, in ihrer urigen Weinstube.
URL:https://weingueter-bretzfeld.de/veranstaltung/besen-wg-borth-19/
LOCATION:Weingut Borth\, Unterheimbacher Str. 35\, Bretzfeld\, 74626\, Deutschland
CATEGORIES:Besentermine
ORGANIZER;CN="Weingut Borth":MAILTO:info@weingut-borth.de
END:VEVENT
BEGIN:VEVENT
DTSTART;VALUE=DATE:20240321
DTEND;VALUE=DATE:20240326
DTSTAMP:20260422T054647
CREATED:20240103T152926Z
LAST-MODIFIED:20240103T154751Z
UID:1969-1710979200-1711411199@weingueter-bretzfeld.de
SUMMARY:Besen - WG Weihbrecht
DESCRIPTION:Unsere Besenwirtschaft gibt es seit 1983\nRegional und traditionell \nEinmal im Monat öffnen wir unsere Besenwirtschaft (Weinstube) und laden Sie ein unsere edlen Weine und vielseitigen Besengerichte vor Ort zu genießen. Besuchen Sie uns nach einer Wanderung im Himmelreich\, oder mit netten Freunden am Abend.
URL:https://weingueter-bretzfeld.de/veranstaltung/besen-wg-weihbrecht-15/
LOCATION:Weingut Weihbrecht\, Hauptstraße 20\, Bretzfeld\, 74626\, Deutschland
CATEGORIES:Besentermine
ORGANIZER;CN="Weingut Weihbrecht":MAILTO:info@weingut-weihbrecht.de
END:VEVENT
BEGIN:VEVENT
DTSTART;VALUE=DATE:20240323
DTEND;VALUE=DATE:20240325
DTSTAMP:20260422T054647
CREATED:20240103T160509Z
LAST-MODIFIED:20240103T160509Z
UID:1998-1711152000-1711324799@weingueter-bretzfeld.de
SUMMARY:Frühlingsmarkt - WG Weibler
DESCRIPTION:Markt mit bäuerlichen Selbstvermarktern
URL:https://weingueter-bretzfeld.de/veranstaltung/fruehlingsmarkt-wg-weibler-2/
LOCATION:Weingut Weibler\, Wengertstr. 8\, Bretzfeld\, 74626\, Deutschland
CATEGORIES:Weinevents
ORGANIZER;CN="Weingut Weibler":MAILTO:info@weibler.de
END:VEVENT
END:VCALENDAR