BEGIN:VCALENDAR
VERSION:2.0
PRODID:-//Die Weingüter Bretzfeld e.V. - ECPv6.15.20//NONSGML v1.0//EN
CALSCALE:GREGORIAN
METHOD:PUBLISH
X-WR-CALNAME:Die Weingüter Bretzfeld e.V.
X-ORIGINAL-URL:https://weingueter-bretzfeld.de
X-WR-CALDESC:Veranstaltungen für Die Weingüter Bretzfeld e.V.
REFRESH-INTERVAL;VALUE=DURATION:PT1H
X-Robots-Tag:noindex
X-PUBLISHED-TTL:PT1H
BEGIN:VTIMEZONE
TZID:Europe/Berlin
BEGIN:DAYLIGHT
TZOFFSETFROM:+0100
TZOFFSETTO:+0200
TZNAME:CEST
DTSTART:20230326T010000
END:DAYLIGHT
BEGIN:STANDARD
TZOFFSETFROM:+0200
TZOFFSETTO:+0100
TZNAME:CET
DTSTART:20231029T010000
END:STANDARD
BEGIN:DAYLIGHT
TZOFFSETFROM:+0100
TZOFFSETTO:+0200
TZNAME:CEST
DTSTART:20240331T010000
END:DAYLIGHT
BEGIN:STANDARD
TZOFFSETFROM:+0200
TZOFFSETTO:+0100
TZNAME:CET
DTSTART:20241027T010000
END:STANDARD
BEGIN:DAYLIGHT
TZOFFSETFROM:+0100
TZOFFSETTO:+0200
TZNAME:CEST
DTSTART:20250330T010000
END:DAYLIGHT
BEGIN:STANDARD
TZOFFSETFROM:+0200
TZOFFSETTO:+0100
TZNAME:CET
DTSTART:20251026T010000
END:STANDARD
END:VTIMEZONE
BEGIN:VEVENT
DTSTART;VALUE=DATE:20240411
DTEND;VALUE=DATE:20240415
DTSTAMP:20260422T040620
CREATED:20240103T160017Z
LAST-MODIFIED:20240103T160017Z
UID:1992-1712793600-1713139199@weingueter-bretzfeld.de
SUMMARY:Besen - WG Borth
DESCRIPTION:Hohenloher Weinstube- Haus der regionalen Küche \nSeit 1977 bewirtet Sie die Familie Borth mit Besengerichten\, sowie regionaler Hausmannnskost und Hohenloher Spezialiäten\, in ihrer urigen Weinstube.
URL:https://weingueter-bretzfeld.de/veranstaltung/besen-wg-borth-20/
LOCATION:Weingut Borth\, Unterheimbacher Str. 35\, Bretzfeld\, 74626\, Deutschland
CATEGORIES:Besentermine
ORGANIZER;CN="Weingut Borth":MAILTO:info@weingut-borth.de
END:VEVENT
BEGIN:VEVENT
DTSTART;VALUE=DATE:20240412
DTEND;VALUE=DATE:20240415
DTSTAMP:20260422T040620
CREATED:20240105T091335Z
LAST-MODIFIED:20240105T091650Z
UID:2088-1712880000-1713139199@weingueter-bretzfeld.de
SUMMARY:Wein & Yoga - WG Weihbrecht
DESCRIPTION:Ein Wochenende die dem Trubel des Alltags trotzen wollen\, sich mehr Raum für Spaß geben möchten und loslassen wollen. Die Yogastunden werden von der ausgebildeten Yoga-Lehrerin Brigitta Bitzer geführt. Kombiniert mit dem kulinarischen Rahmenprogramm auf unserem Familienweingut bildet dieses Wochenende ein Ausgleich für Körper & Seele. Das Highlight – Die Verbindung von Wein & Yoga – im Weinkeller! \nAnmeldung erforderlich!
URL:https://weingueter-bretzfeld.de/veranstaltung/wein-yoga-wg-weihbrecht/
LOCATION:Weingut Weihbrecht\, Hauptstraße 20\, Bretzfeld\, 74626\, Deutschland
CATEGORIES:Weinevents
ORGANIZER;CN="Weingut Weihbrecht":MAILTO:info@weingut-weihbrecht.de
END:VEVENT
BEGIN:VEVENT
DTSTART;VALUE=DATE:20240425
DTEND;VALUE=DATE:20240429
DTSTAMP:20260422T040620
CREATED:20240105T081300Z
LAST-MODIFIED:20240105T081300Z
UID:2004-1714003200-1714348799@weingueter-bretzfeld.de
SUMMARY:Besen - WG Borth
DESCRIPTION:Hohenloher Weinstube- Haus der regionalen Küche \nSeit 1977 bewirtet Sie die Familie Borth mit Besengerichten\, sowie regionaler Hausmannnskost und Hohenloher Spezialiäten\, in ihrer urigen Weinstube.
URL:https://weingueter-bretzfeld.de/veranstaltung/besen-wg-borth-21/
LOCATION:Weingut Borth\, Unterheimbacher Str. 35\, Bretzfeld\, 74626\, Deutschland
CATEGORIES:Besentermine
ORGANIZER;CN="Weingut Borth":MAILTO:info@weingut-borth.de
END:VEVENT
BEGIN:VEVENT
DTSTART;VALUE=DATE:20240425
DTEND;VALUE=DATE:20240430
DTSTAMP:20260422T040620
CREATED:20240105T084233Z
LAST-MODIFIED:20240105T084233Z
UID:2036-1714003200-1714435199@weingueter-bretzfeld.de
SUMMARY:Besen - WG Weihbrecht
DESCRIPTION:Unsere Besenwirtschaft gibt es seit 1983\nRegional und traditionell \nEinmal im Monat öffnen wir unsere Besenwirtschaft (Weinstube) und laden Sie ein unsere edlen Weine und vielseitigen Besengerichte vor Ort zu genießen. Besuchen Sie uns nach einer Wanderung im Himmelreich\, oder mit netten Freunden am Abend.
URL:https://weingueter-bretzfeld.de/veranstaltung/besen-wg-weihbrecht-16/
LOCATION:Weingut Weihbrecht\, Hauptstraße 20\, Bretzfeld\, 74626\, Deutschland
CATEGORIES:Besentermine
ORGANIZER;CN="Weingut Weihbrecht":MAILTO:info@weingut-weihbrecht.de
END:VEVENT
END:VCALENDAR