BEGIN:VCALENDAR
VERSION:2.0
PRODID:-//Die Weingüter Bretzfeld e.V. - ECPv6.15.20//NONSGML v1.0//EN
CALSCALE:GREGORIAN
METHOD:PUBLISH
X-ORIGINAL-URL:https://weingueter-bretzfeld.de
X-WR-CALDESC:Veranstaltungen für Die Weingüter Bretzfeld e.V.
REFRESH-INTERVAL;VALUE=DURATION:PT1H
X-Robots-Tag:noindex
X-PUBLISHED-TTL:PT1H
BEGIN:VTIMEZONE
TZID:Europe/Berlin
BEGIN:DAYLIGHT
TZOFFSETFROM:+0100
TZOFFSETTO:+0200
TZNAME:CEST
DTSTART:20230326T010000
END:DAYLIGHT
BEGIN:STANDARD
TZOFFSETFROM:+0200
TZOFFSETTO:+0100
TZNAME:CET
DTSTART:20231029T010000
END:STANDARD
BEGIN:DAYLIGHT
TZOFFSETFROM:+0100
TZOFFSETTO:+0200
TZNAME:CEST
DTSTART:20240331T010000
END:DAYLIGHT
BEGIN:STANDARD
TZOFFSETFROM:+0200
TZOFFSETTO:+0100
TZNAME:CET
DTSTART:20241027T010000
END:STANDARD
BEGIN:DAYLIGHT
TZOFFSETFROM:+0100
TZOFFSETTO:+0200
TZNAME:CEST
DTSTART:20250330T010000
END:DAYLIGHT
BEGIN:STANDARD
TZOFFSETFROM:+0200
TZOFFSETTO:+0100
TZNAME:CET
DTSTART:20251026T010000
END:STANDARD
END:VTIMEZONE
BEGIN:VEVENT
DTSTART;VALUE=DATE:20240704
DTEND;VALUE=DATE:20240709
DTSTAMP:20260421T233556
CREATED:20240105T095643Z
LAST-MODIFIED:20240105T095643Z
UID:2132-1720051200-1720483199@weingueter-bretzfeld.de
SUMMARY:Hohenloher Weindorf
DESCRIPTION:Das Hohenloher Weindorf von Donnerstag\, 04. Juli bis Montag\, 8. Juli 2024\, findet auf dem Marktplatz und im Hofgarten in Öhringen statt. Mit seiner familiären Atmosphäre\, der historischen Kulisse\, einem abwechslungsreichen Bühnenprogramm und bestem Wein und Kulinarik\, ist das Hohenloher Weindorf ein großer Publikumsmagnet mit Tausenden Besuchern. \nRund 200 regionale Weine und Sekte stehen zur Verkostung. Besonders beliebt ist das Junge Weindorf\, das am Freitag- und Samstagabend auf dem Hofgarten-Rondell ein besonderes Flair bietet. \nhttp://www.hohenloher-weindorf.de
URL:https://weingueter-bretzfeld.de/veranstaltung/hohenloher-weindorf/
CATEGORIES:Hohenloher Weindorf
ORGANIZER;CN="Weingut%09Busch":MAILTO:info@karlbusch-wein.de
END:VEVENT
BEGIN:VEVENT
DTSTART;VALUE=DATE:20240710
DTEND;VALUE=DATE:20240715
DTSTAMP:20260421T233556
CREATED:20240105T094728Z
LAST-MODIFIED:20240105T094728Z
UID:2120-1720569600-1721001599@weingueter-bretzfeld.de
SUMMARY:Hohenloher Scheune - WG Schwab
DESCRIPTION:Ehemaliges Gelände der Landesgartenschau zwischen Öhringen und Cappel. \nMittwoch bis Samstag von 17 bis 21 Uhr.\nSonn- und Feiertag von 12 bis 20 Uhr.
URL:https://weingueter-bretzfeld.de/veranstaltung/hohenloher-scheune-wg-schwab-2/
CATEGORIES:Hohenloher Scheune
ORGANIZER;CN="Weingut%09Schwab":MAILTO:kontakt@schwab-wein.de
END:VEVENT
BEGIN:VEVENT
DTSTART;VALUE=DATE:20240711
DTEND;VALUE=DATE:20240716
DTSTAMP:20260421T233556
CREATED:20240105T084514Z
LAST-MODIFIED:20240105T084514Z
UID:2042-1720656000-1721087999@weingueter-bretzfeld.de
SUMMARY:Besen - WG Weihbrecht
DESCRIPTION:Unsere Besenwirtschaft gibt es seit 1983\nRegional und traditionell \nEinmal im Monat öffnen wir unsere Besenwirtschaft (Weinstube) und laden Sie ein unsere edlen Weine und vielseitigen Besengerichte vor Ort zu genießen. Besuchen Sie uns nach einer Wanderung im Himmelreich\, oder mit netten Freunden am Abend.
URL:https://weingueter-bretzfeld.de/veranstaltung/besen-wg-weihbrecht-19/
LOCATION:Weingut Weihbrecht\, Hauptstraße 20\, Bretzfeld\, 74626\, Deutschland
CATEGORIES:Besentermine
ORGANIZER;CN="Weingut Weihbrecht":MAILTO:info@weingut-weihbrecht.de
END:VEVENT
BEGIN:VEVENT
DTSTART;VALUE=DATE:20240713
DTEND;VALUE=DATE:20240714
DTSTAMP:20260421T233556
CREATED:20240105T085352Z
LAST-MODIFIED:20240105T085352Z
UID:2059-1720828800-1720915199@weingueter-bretzfeld.de
SUMMARY:Einmal Himmelreich und zurück! - WG Weihbrecht
DESCRIPTION:Wir laden Sie ein zu einem köstlichen Weinvergnügen ins Himmelreich. Wir verführen Ihre Sinne und bescheren Ihnen unvergessliche Geschmackserlebnisse. „Versuchungen soll man nachgeben\, wer weiß\, wann sie wiederkommen.“ (Oscar Wilde) \n\nBeginn der Touren jeweils 13.00 Uhr auf unserem Weingut. \nAnmeldung erforderlich!
URL:https://weingueter-bretzfeld.de/veranstaltung/einmal-himmelreich-und-zurueck-wg-weihbrecht-3/
LOCATION:Weingut Weihbrecht\, Hauptstraße 20\, Bretzfeld\, 74626\, Deutschland
CATEGORIES:Weinerlebnistouren
ORGANIZER;CN="Weingut Weihbrecht":MAILTO:info@weingut-weihbrecht.de
END:VEVENT
BEGIN:VEVENT
DTSTART;VALUE=DATE:20240717
DTEND;VALUE=DATE:20240722
DTSTAMP:20260421T233556
CREATED:20240105T094109Z
LAST-MODIFIED:20240105T094109Z
UID:2110-1721174400-1721606399@weingueter-bretzfeld.de
SUMMARY:Hohenloher Scheune - WG Mai
DESCRIPTION:Ehemaliges Gelände der Landesgartenschau zwischen Öhringen und Cappel. \nMittwoch bis Samstag von 17 bis 21 Uhr.\nSonn- und Feiertag von 12 bis 20 Uhr.
URL:https://weingueter-bretzfeld.de/veranstaltung/hohenloher-scheune-wg-mai-2/
CATEGORIES:Hohenloher Scheune
ORGANIZER;CN="Weingut Mai":MAILTO:info@weingut-mai.de
END:VEVENT
BEGIN:VEVENT
DTSTART;VALUE=DATE:20240718
DTEND;VALUE=DATE:20240722
DTSTAMP:20260421T233556
CREATED:20240105T081629Z
LAST-MODIFIED:20240105T081629Z
UID:2014-1721260800-1721606399@weingueter-bretzfeld.de
SUMMARY:Besen - WG Borth
DESCRIPTION:Hohenloher Weinstube- Haus der regionalen Küche \nSeit 1977 bewirtet Sie die Familie Borth mit Besengerichten\, sowie regionaler Hausmannnskost und Hohenloher Spezialiäten\, in ihrer urigen Weinstube.
URL:https://weingueter-bretzfeld.de/veranstaltung/besen-wg-borth-26/
LOCATION:Weingut Borth\, Unterheimbacher Str. 35\, Bretzfeld\, 74626\, Deutschland
CATEGORIES:Besentermine
ORGANIZER;CN="Weingut Borth":MAILTO:info@weingut-borth.de
END:VEVENT
BEGIN:VEVENT
DTSTART;VALUE=DATE:20240720
DTEND;VALUE=DATE:20240721
DTSTAMP:20260421T233556
CREATED:20240105T090426Z
LAST-MODIFIED:20240105T090426Z
UID:2074-1721433600-1721519999@weingueter-bretzfeld.de
SUMMARY:Mit 2 PS durchs Himmelreich! - WG Weihbrecht
DESCRIPTION:Das einzigartige Erlebnis: Weinselige Fahrt mit dem Pferdeplanwagen. Joe und Vero\, die zwei braven süddeutschen Kaltblüter schaffen auch die steilsten Wengertsbuckel\, während Sie ganz entspannt herrliche Aussichten und himmlische Weine genießen dürfen. Ein Weinvergnügen auf ganz besondere Art. \nBeginn der Touren jeweils 13.30 Uhr auf unserem Weingut. \nAnmeldung erforderlich!
URL:https://weingueter-bretzfeld.de/veranstaltung/mit-2-ps-durchs-himmelreich-wg-weihbrecht-4/
LOCATION:Weingut Weihbrecht\, Hauptstraße 20\, Bretzfeld\, 74626\, Deutschland
CATEGORIES:Weinerlebnistouren
ORGANIZER;CN="Weingut Weihbrecht":MAILTO:info@weingut-weihbrecht.de
END:VEVENT
BEGIN:VEVENT
DTSTART;VALUE=DATE:20240720
DTEND;VALUE=DATE:20240722
DTSTAMP:20260421T233556
CREATED:20240105T091928Z
LAST-MODIFIED:20240105T091928Z
UID:2094-1721433600-1721606399@weingueter-bretzfeld.de
SUMMARY:Sommerfest - WG Weibler
DESCRIPTION:Wir feiern den Sommer. \nSamstagabend: Live-Musik
URL:https://weingueter-bretzfeld.de/veranstaltung/sommerfest-wg-weibler/
LOCATION:Weingut Weibler\, Wengertstr. 8\, Bretzfeld\, 74626\, Deutschland
CATEGORIES:Weinevents
ORGANIZER;CN="Weingut Weibler":MAILTO:info@weibler.de
END:VEVENT
BEGIN:VEVENT
DTSTART;VALUE=DATE:20240724
DTEND;VALUE=DATE:20240729
DTSTAMP:20260421T233556
CREATED:20240105T094827Z
LAST-MODIFIED:20240105T094827Z
UID:2122-1721779200-1722211199@weingueter-bretzfeld.de
SUMMARY:Hohenloher Scheune - WG Birkert
DESCRIPTION:Ehemaliges Gelände der Landesgartenschau zwischen Öhringen und Cappel. \nMittwoch bis Samstag von 17 bis 21 Uhr.\nSonn- und Feiertag von 12 bis 20 Uhr.
URL:https://weingueter-bretzfeld.de/veranstaltung/hohenloher-scheune-wg-birkert-3/
CATEGORIES:Hohenloher Scheune
ORGANIZER;CN="Weingut Birkert":MAILTO:info@weingut-birkert.com
END:VEVENT
BEGIN:VEVENT
DTSTART;VALUE=DATE:20240731
DTEND;VALUE=DATE:20240805
DTSTAMP:20260421T233556
CREATED:20240105T083429Z
LAST-MODIFIED:20240105T083429Z
UID:2028-1722384000-1722815999@weingueter-bretzfeld.de
SUMMARY:Hohenloher Scheune - WG Borth
DESCRIPTION:Ehemaliges Gelände der Landesgartenschau zwischen Öhringen und Cappel. \nMittwoch bis Samstag von 17 bis 21 Uhr.\nSonn- und Feiertag von 12 bis 20 Uhr.
URL:https://weingueter-bretzfeld.de/veranstaltung/hohenloher-scheune-wg-borth-2/
CATEGORIES:Hohenloher Scheune
ORGANIZER;CN="Weingut Borth":MAILTO:info@weingut-borth.de
END:VEVENT
END:VCALENDAR