BEGIN:VCALENDAR
VERSION:2.0
PRODID:-//Die Weingüter Bretzfeld e.V. - ECPv6.15.20//NONSGML v1.0//EN
CALSCALE:GREGORIAN
METHOD:PUBLISH
X-WR-CALNAME:Die Weingüter Bretzfeld e.V.
X-ORIGINAL-URL:https://weingueter-bretzfeld.de
X-WR-CALDESC:Veranstaltungen für Die Weingüter Bretzfeld e.V.
REFRESH-INTERVAL;VALUE=DURATION:PT1H
X-Robots-Tag:noindex
X-PUBLISHED-TTL:PT1H
BEGIN:VTIMEZONE
TZID:Europe/Berlin
BEGIN:DAYLIGHT
TZOFFSETFROM:+0100
TZOFFSETTO:+0200
TZNAME:CEST
DTSTART:20230326T010000
END:DAYLIGHT
BEGIN:STANDARD
TZOFFSETFROM:+0200
TZOFFSETTO:+0100
TZNAME:CET
DTSTART:20231029T010000
END:STANDARD
BEGIN:DAYLIGHT
TZOFFSETFROM:+0100
TZOFFSETTO:+0200
TZNAME:CEST
DTSTART:20240331T010000
END:DAYLIGHT
BEGIN:STANDARD
TZOFFSETFROM:+0200
TZOFFSETTO:+0100
TZNAME:CET
DTSTART:20241027T010000
END:STANDARD
BEGIN:DAYLIGHT
TZOFFSETFROM:+0100
TZOFFSETTO:+0200
TZNAME:CEST
DTSTART:20250330T010000
END:DAYLIGHT
BEGIN:STANDARD
TZOFFSETFROM:+0200
TZOFFSETTO:+0100
TZNAME:CET
DTSTART:20251026T010000
END:STANDARD
END:VTIMEZONE
BEGIN:VEVENT
DTSTART;VALUE=DATE:20240904
DTEND;VALUE=DATE:20240909
DTSTAMP:20260421T202832
CREATED:20240105T094904Z
LAST-MODIFIED:20240105T094904Z
UID:2124-1725408000-1725839999@weingueter-bretzfeld.de
SUMMARY:Hohenloher Scheune - WG Busch
DESCRIPTION:Ehemaliges Gelände der Landesgartenschau zwischen Öhringen und Cappel. \nMittwoch bis Samstag von 17 bis 21 Uhr.\nSonn- und Feiertag von 12 bis 20 Uhr.
URL:https://weingueter-bretzfeld.de/veranstaltung/hohenloher-scheune-wg-busch-2/
CATEGORIES:Hohenloher Scheune
ORGANIZER;CN="Weingut%09Busch":MAILTO:info@karlbusch-wein.de
END:VEVENT
BEGIN:VEVENT
DTSTART;VALUE=DATE:20240907
DTEND;VALUE=DATE:20240909
DTSTAMP:20260421T202832
CREATED:20240105T092040Z
LAST-MODIFIED:20240105T092051Z
UID:2096-1725667200-1725839999@weingueter-bretzfeld.de
SUMMARY:Wein- und Ochsenfest - WG Weibler
DESCRIPTION:Der Klassiker. Frisches Obst im frühen Herbst. \nSamstagabend: Live-Musik
URL:https://weingueter-bretzfeld.de/veranstaltung/wein-und-ochsenfest-2/
LOCATION:Weingut Weibler\, Wengertstr. 8\, Bretzfeld\, 74626\, Deutschland
CATEGORIES:Weinevents
ORGANIZER;CN="Weingut Weibler":MAILTO:info@weibler.de
END:VEVENT
BEGIN:VEVENT
DTSTART;VALUE=DATE:20240911
DTEND;VALUE=DATE:20240916
DTSTAMP:20260421T202832
CREATED:20240105T095008Z
LAST-MODIFIED:20240105T095008Z
UID:2126-1726012800-1726444799@weingueter-bretzfeld.de
SUMMARY:Hohenloher Scheune - WG Mai
DESCRIPTION:Ehemaliges Gelände der Landesgartenschau zwischen Öhringen und Cappel. \nMittwoch bis Samstag von 17 bis 21 Uhr.\nSonn- und Feiertag von 12 bis 20 Uhr.
URL:https://weingueter-bretzfeld.de/veranstaltung/hohenloher-scheune-wg-mai-3/
CATEGORIES:Hohenloher Scheune
ORGANIZER;CN="Weingut Mai":MAILTO:info@weingut-mai.de
END:VEVENT
BEGIN:VEVENT
DTSTART;VALUE=DATE:20240912
DTEND;VALUE=DATE:20240916
DTSTAMP:20260421T202832
CREATED:20240105T082541Z
LAST-MODIFIED:20240105T082541Z
UID:2018-1726099200-1726444799@weingueter-bretzfeld.de
SUMMARY:Besen - WG Borth
DESCRIPTION:Hohenloher Weinstube- Haus der regionalen Küche \nSeit 1977 bewirtet Sie die Familie Borth mit Besengerichten\, sowie regionaler Hausmannnskost und Hohenloher Spezialiäten\, in ihrer urigen Weinstube.
URL:https://weingueter-bretzfeld.de/veranstaltung/besen-wg-borth-28/
LOCATION:Weingut Borth\, Unterheimbacher Str. 35\, Bretzfeld\, 74626\, Deutschland
CATEGORIES:Besentermine
ORGANIZER;CN="Weingut Borth":MAILTO:info@weingut-borth.de
END:VEVENT
BEGIN:VEVENT
DTSTART;VALUE=DATE:20240912
DTEND;VALUE=DATE:20240917
DTSTAMP:20260421T202832
CREATED:20240105T084624Z
LAST-MODIFIED:20240105T084624Z
UID:2046-1726099200-1726531199@weingueter-bretzfeld.de
SUMMARY:Besen - WG Weihbrecht
DESCRIPTION:Unsere Besenwirtschaft gibt es seit 1983\nRegional und traditionell \nEinmal im Monat öffnen wir unsere Besenwirtschaft (Weinstube) und laden Sie ein unsere edlen Weine und vielseitigen Besengerichte vor Ort zu genießen. Besuchen Sie uns nach einer Wanderung im Himmelreich\, oder mit netten Freunden am Abend.
URL:https://weingueter-bretzfeld.de/veranstaltung/besen-wg-weihbrecht-21/
LOCATION:Weingut Weihbrecht\, Hauptstraße 20\, Bretzfeld\, 74626\, Deutschland
CATEGORIES:Besentermine
ORGANIZER;CN="Weingut Weihbrecht":MAILTO:info@weingut-weihbrecht.de
END:VEVENT
BEGIN:VEVENT
DTSTART;VALUE=DATE:20240914
DTEND;VALUE=DATE:20240915
DTSTAMP:20260421T202832
CREATED:20240105T085924Z
LAST-MODIFIED:20240105T085924Z
UID:2063-1726272000-1726358399@weingueter-bretzfeld.de
SUMMARY:Einmal Himmelreich und zurück! - WG Weihbrecht
DESCRIPTION:Wir laden Sie ein zu einem köstlichen Weinvergnügen ins Himmelreich. Wir verführen Ihre Sinne und bescheren Ihnen unvergessliche Geschmackserlebnisse. „Versuchungen soll man nachgeben\, wer weiß\, wann sie wiederkommen.“ (Oscar Wilde) \n\nBeginn der Touren jeweils 13.00 Uhr auf unserem Weingut. \nAnmeldung erforderlich! \n 
URL:https://weingueter-bretzfeld.de/veranstaltung/einmal-himmelreich-und-zurueck-wg-weihbrecht-5/
LOCATION:Weingut Weihbrecht\, Hauptstraße 20\, Bretzfeld\, 74626\, Deutschland
CATEGORIES:Weinerlebnistouren
ORGANIZER;CN="Weingut Weihbrecht":MAILTO:info@weingut-weihbrecht.de
END:VEVENT
BEGIN:VEVENT
DTSTART;VALUE=DATE:20240918
DTEND;VALUE=DATE:20240923
DTSTAMP:20260421T202832
CREATED:20240105T095055Z
LAST-MODIFIED:20240105T095055Z
UID:2128-1726617600-1727049599@weingueter-bretzfeld.de
SUMMARY:Hohenloher Scheune - WG Birkert
DESCRIPTION:Ehemaliges Gelände der Landesgartenschau zwischen Öhringen und Cappel. \nMittwoch bis Samstag von 17 bis 21 Uhr.\nSonn- und Feiertag von 12 bis 20 Uhr.
URL:https://weingueter-bretzfeld.de/veranstaltung/hohenloher-scheune-wg-birkert-4/
CATEGORIES:Hohenloher Scheune
ORGANIZER;CN="Weingut Birkert":MAILTO:info@weingut-birkert.com
END:VEVENT
BEGIN:VEVENT
DTSTART;VALUE=DATE:20240921
DTEND;VALUE=DATE:20240922
DTSTAMP:20260421T202832
CREATED:20240105T090723Z
LAST-MODIFIED:20240105T090723Z
UID:2078-1726876800-1726963199@weingueter-bretzfeld.de
SUMMARY:Mit 2 PS durchs Himmelreich! - WG Weihbrecht
DESCRIPTION:Das einzigartige Erlebnis: Weinselige Fahrt mit dem Pferdeplanwagen. Joe und Vero\, die zwei braven süddeutschen Kaltblüter schaffen auch die steilsten Wengertsbuckel\, während Sie ganz entspannt herrliche Aussichten und himmlische Weine genießen dürfen. Ein Weinvergnügen auf ganz besondere Art. \nBeginn der Touren jeweils 13.30 Uhr auf unserem Weingut. \nAnmeldung erforderlich!
URL:https://weingueter-bretzfeld.de/veranstaltung/mit-2-ps-durchs-himmelreich-wg-weihbrecht-6/
LOCATION:Weingut Weihbrecht\, Hauptstraße 20\, Bretzfeld\, 74626\, Deutschland
CATEGORIES:Weinerlebnistouren
ORGANIZER;CN="Weingut Weihbrecht":MAILTO:info@weingut-weihbrecht.de
END:VEVENT
BEGIN:VEVENT
DTSTART;VALUE=DATE:20240925
DTEND;VALUE=DATE:20240930
DTSTAMP:20260421T202832
CREATED:20240105T095136Z
LAST-MODIFIED:20240105T095136Z
UID:2130-1727222400-1727654399@weingueter-bretzfeld.de
SUMMARY:Hohenloher Scheune - WG Müller
DESCRIPTION:Ehemaliges Gelände der Landesgartenschau zwischen Öhringen und Cappel. \nMittwoch bis Samstag von 17 bis 21 Uhr.\nSonn- und Feiertag von 12 bis 20 Uhr.
URL:https://weingueter-bretzfeld.de/veranstaltung/hohenloher-scheune-wg-mueller-4/
CATEGORIES:Hohenloher Scheune
ORGANIZER;CN="Weingut Schneckenhof":MAILTO:info@weingut-schneckenhof.de
END:VEVENT
BEGIN:VEVENT
DTSTART;VALUE=DATE:20240926
DTEND;VALUE=DATE:20240930
DTSTAMP:20260421T202832
CREATED:20240105T082622Z
LAST-MODIFIED:20240105T082622Z
UID:2020-1727308800-1727654399@weingueter-bretzfeld.de
SUMMARY:Besen - WG Borth
DESCRIPTION:Hohenloher Weinstube- Haus der regionalen Küche \nSeit 1977 bewirtet Sie die Familie Borth mit Besengerichten\, sowie regionaler Hausmannnskost und Hohenloher Spezialiäten\, in ihrer urigen Weinstube.
URL:https://weingueter-bretzfeld.de/veranstaltung/besen-wg-borth-29/
LOCATION:Weingut Borth\, Unterheimbacher Str. 35\, Bretzfeld\, 74626\, Deutschland
CATEGORIES:Besentermine
ORGANIZER;CN="Weingut Borth":MAILTO:info@weingut-borth.de
END:VEVENT
BEGIN:VEVENT
DTSTART;VALUE=DATE:20240928
DTEND;VALUE=DATE:20240929
DTSTAMP:20260421T202832
CREATED:20240105T090837Z
LAST-MODIFIED:20240105T090837Z
UID:2080-1727481600-1727567999@weingueter-bretzfeld.de
SUMMARY:Mit 2 PS durchs Himmelreich! - WG Weihbrecht
DESCRIPTION:Das einzigartige Erlebnis: Weinselige Fahrt mit dem Pferdeplanwagen. Joe und Vero\, die zwei braven süddeutschen Kaltblüter schaffen auch die steilsten Wengertsbuckel\, während Sie ganz entspannt herrliche Aussichten und himmlische Weine genießen dürfen. Ein Weinvergnügen auf ganz besondere Art. \nBeginn der Touren jeweils 13.30 Uhr auf unserem Weingut. \nAnmeldung erforderlich!
URL:https://weingueter-bretzfeld.de/veranstaltung/mit-2-ps-durchs-himmelreich-wg-weihbrecht-7/
LOCATION:Weingut Weihbrecht\, Hauptstraße 20\, Bretzfeld\, 74626\, Deutschland
CATEGORIES:Weinerlebnistouren
ORGANIZER;CN="Weingut Weihbrecht":MAILTO:info@weingut-weihbrecht.de
END:VEVENT
END:VCALENDAR