BEGIN:VCALENDAR
VERSION:2.0
PRODID:-//Die Weingüter Bretzfeld e.V. - ECPv6.15.20//NONSGML v1.0//EN
CALSCALE:GREGORIAN
METHOD:PUBLISH
X-WR-CALNAME:Die Weingüter Bretzfeld e.V.
X-ORIGINAL-URL:https://weingueter-bretzfeld.de
X-WR-CALDESC:Veranstaltungen für Die Weingüter Bretzfeld e.V.
REFRESH-INTERVAL;VALUE=DURATION:PT1H
X-Robots-Tag:noindex
X-PUBLISHED-TTL:PT1H
BEGIN:VTIMEZONE
TZID:Europe/Berlin
BEGIN:DAYLIGHT
TZOFFSETFROM:+0100
TZOFFSETTO:+0200
TZNAME:CEST
DTSTART:20230326T010000
END:DAYLIGHT
BEGIN:STANDARD
TZOFFSETFROM:+0200
TZOFFSETTO:+0100
TZNAME:CET
DTSTART:20231029T010000
END:STANDARD
BEGIN:DAYLIGHT
TZOFFSETFROM:+0100
TZOFFSETTO:+0200
TZNAME:CEST
DTSTART:20240331T010000
END:DAYLIGHT
BEGIN:STANDARD
TZOFFSETFROM:+0200
TZOFFSETTO:+0100
TZNAME:CET
DTSTART:20241027T010000
END:STANDARD
BEGIN:DAYLIGHT
TZOFFSETFROM:+0100
TZOFFSETTO:+0200
TZNAME:CEST
DTSTART:20250330T010000
END:DAYLIGHT
BEGIN:STANDARD
TZOFFSETFROM:+0200
TZOFFSETTO:+0100
TZNAME:CET
DTSTART:20251026T010000
END:STANDARD
END:VTIMEZONE
BEGIN:VEVENT
DTSTART;VALUE=DATE:20241005
DTEND;VALUE=DATE:20241006
DTSTAMP:20260421T185410
CREATED:20240105T090912Z
LAST-MODIFIED:20240105T090912Z
UID:2082-1728086400-1728172799@weingueter-bretzfeld.de
SUMMARY:Mit 2 PS durchs Himmelreich! - WG Weihbrecht
DESCRIPTION:Das einzigartige Erlebnis: Weinselige Fahrt mit dem Pferdeplanwagen. Joe und Vero\, die zwei braven süddeutschen Kaltblüter schaffen auch die steilsten Wengertsbuckel\, während Sie ganz entspannt herrliche Aussichten und himmlische Weine genießen dürfen. Ein Weinvergnügen auf ganz besondere Art. \nBeginn der Touren jeweils 13.30 Uhr auf unserem Weingut. \nAnmeldung erforderlich!
URL:https://weingueter-bretzfeld.de/veranstaltung/mit-2-ps-durchs-himmelreich-wg-weihbrecht-8/
LOCATION:Weingut Weihbrecht\, Hauptstraße 20\, Bretzfeld\, 74626\, Deutschland
CATEGORIES:Weinerlebnistouren
ORGANIZER;CN="Weingut Weihbrecht":MAILTO:info@weingut-weihbrecht.de
END:VEVENT
BEGIN:VEVENT
DTSTART;VALUE=DATE:20241010
DTEND;VALUE=DATE:20241014
DTSTAMP:20260421T185410
CREATED:20240105T082704Z
LAST-MODIFIED:20240105T082704Z
UID:2022-1728518400-1728863999@weingueter-bretzfeld.de
SUMMARY:Besen - WG Borth
DESCRIPTION:Hohenloher Weinstube- Haus der regionalen Küche \nSeit 1977 bewirtet Sie die Familie Borth mit Besengerichten\, sowie regionaler Hausmannnskost und Hohenloher Spezialiäten\, in ihrer urigen Weinstube.
URL:https://weingueter-bretzfeld.de/veranstaltung/besen-wg-borth-30/
LOCATION:Weingut Borth\, Unterheimbacher Str. 35\, Bretzfeld\, 74626\, Deutschland
CATEGORIES:Besentermine
ORGANIZER;CN="Weingut Borth":MAILTO:info@weingut-borth.de
END:VEVENT
BEGIN:VEVENT
DTSTART;VALUE=DATE:20241012
DTEND;VALUE=DATE:20241014
DTSTAMP:20260421T185410
CREATED:20240105T092148Z
LAST-MODIFIED:20240105T092202Z
UID:2099-1728691200-1728863999@weingueter-bretzfeld.de
SUMMARY:Walnussfest - WG Weibler
DESCRIPTION:Feine Köstlichkeiten rund um die Walnuss.
URL:https://weingueter-bretzfeld.de/veranstaltung/walsnussfest-wg-weibler/
LOCATION:Weingut Weibler\, Wengertstr. 8\, Bretzfeld\, 74626\, Deutschland
CATEGORIES:Weinevents
ORGANIZER;CN="Weingut Weibler":MAILTO:info@weibler.de
END:VEVENT
BEGIN:VEVENT
DTSTART;VALUE=DATE:20241024
DTEND;VALUE=DATE:20241029
DTSTAMP:20260421T185410
CREATED:20240105T084710Z
LAST-MODIFIED:20240105T084710Z
UID:2048-1729728000-1730159999@weingueter-bretzfeld.de
SUMMARY:Besen - WG Weihbrecht
DESCRIPTION:Unsere Besenwirtschaft gibt es seit 1983\nRegional und traditionell \nEinmal im Monat öffnen wir unsere Besenwirtschaft (Weinstube) und laden Sie ein unsere edlen Weine und vielseitigen Besengerichte vor Ort zu genießen. Besuchen Sie uns nach einer Wanderung im Himmelreich\, oder mit netten Freunden am Abend.
URL:https://weingueter-bretzfeld.de/veranstaltung/besen-wg-weihbrecht-22/
LOCATION:Weingut Weihbrecht\, Hauptstraße 20\, Bretzfeld\, 74626\, Deutschland
CATEGORIES:Besentermine
ORGANIZER;CN="Weingut Weihbrecht":MAILTO:info@weingut-weihbrecht.de
END:VEVENT
BEGIN:VEVENT
DTSTART;VALUE=DATE:20241026
DTEND;VALUE=DATE:20241027
DTSTAMP:20260421T185410
CREATED:20240105T085953Z
LAST-MODIFIED:20240105T085953Z
UID:2065-1729900800-1729987199@weingueter-bretzfeld.de
SUMMARY:Einmal Himmelreich und zurück! - WG Weihbrecht
DESCRIPTION:Wir laden Sie ein zu einem köstlichen Weinvergnügen ins Himmelreich. Wir verführen Ihre Sinne und bescheren Ihnen unvergessliche Geschmackserlebnisse. „Versuchungen soll man nachgeben\, wer weiß\, wann sie wiederkommen.“ (Oscar Wilde) \n\nBeginn der Touren jeweils 13.00 Uhr auf unserem Weingut. \nAnmeldung erforderlich!
URL:https://weingueter-bretzfeld.de/veranstaltung/einmal-himmelreich-und-zurueck-wg-weihbrecht-6/
LOCATION:Weingut Weihbrecht\, Hauptstraße 20\, Bretzfeld\, 74626\, Deutschland
CATEGORIES:Weinerlebnistouren
ORGANIZER;CN="Weingut Weihbrecht":MAILTO:info@weingut-weihbrecht.de
END:VEVENT
BEGIN:VEVENT
DTSTART;VALUE=DATE:20241031
DTEND;VALUE=DATE:20241104
DTSTAMP:20260421T185410
CREATED:20240105T083547Z
LAST-MODIFIED:20240105T083547Z
UID:2032-1730332800-1730678399@weingueter-bretzfeld.de
SUMMARY:Wein\, Wild und mehr - WG Borth
DESCRIPTION:
URL:https://weingueter-bretzfeld.de/veranstaltung/wein-wild-und-mehr-wg-borth-2/
LOCATION:Weingut Borth\, Unterheimbacher Str. 35\, Bretzfeld\, 74626\, Deutschland
CATEGORIES:Weinevents
ORGANIZER;CN="Weingut Borth":MAILTO:info@weingut-borth.de
END:VEVENT
END:VCALENDAR