BEGIN:VCALENDAR
VERSION:2.0
PRODID:-//Die Weingüter Bretzfeld e.V. - ECPv6.15.20//NONSGML v1.0//EN
CALSCALE:GREGORIAN
METHOD:PUBLISH
X-ORIGINAL-URL:https://weingueter-bretzfeld.de
X-WR-CALDESC:Veranstaltungen für Die Weingüter Bretzfeld e.V.
REFRESH-INTERVAL;VALUE=DURATION:PT1H
X-Robots-Tag:noindex
X-PUBLISHED-TTL:PT1H
BEGIN:VTIMEZONE
TZID:Europe/Berlin
BEGIN:DAYLIGHT
TZOFFSETFROM:+0100
TZOFFSETTO:+0200
TZNAME:CEST
DTSTART:20240331T010000
END:DAYLIGHT
BEGIN:STANDARD
TZOFFSETFROM:+0200
TZOFFSETTO:+0100
TZNAME:CET
DTSTART:20241027T010000
END:STANDARD
BEGIN:DAYLIGHT
TZOFFSETFROM:+0100
TZOFFSETTO:+0200
TZNAME:CEST
DTSTART:20250330T010000
END:DAYLIGHT
BEGIN:STANDARD
TZOFFSETFROM:+0200
TZOFFSETTO:+0100
TZNAME:CET
DTSTART:20251026T010000
END:STANDARD
BEGIN:DAYLIGHT
TZOFFSETFROM:+0100
TZOFFSETTO:+0200
TZNAME:CEST
DTSTART:20260329T010000
END:DAYLIGHT
BEGIN:STANDARD
TZOFFSETFROM:+0200
TZOFFSETTO:+0100
TZNAME:CET
DTSTART:20261025T010000
END:STANDARD
END:VTIMEZONE
BEGIN:VEVENT
DTSTART;VALUE=DATE:20250102
DTEND;VALUE=DATE:20250107
DTSTAMP:20260421T143247
CREATED:20241120T080903Z
LAST-MODIFIED:20241120T080903Z
UID:2323-1735776000-1736207999@weingueter-bretzfeld.de
SUMMARY:Besen - Weihbrecht
DESCRIPTION:Unsere Besenwirtschaft gibt es seit 1983\nRegional und traditionell \nEinmal im Monat öffnen wir unsere Besenwirtschaft (Weinstube) und laden Sie ein unsere edlen Weine und vielseitigen Besengerichte vor Ort zu genießen. Besuchen Sie uns nach einer Wanderung im Himmelreich\, oder mit netten Freunden am Abend.
URL:https://weingueter-bretzfeld.de/veranstaltung/besen-weihbrecht/
LOCATION:Weingut Weihbrecht\, Hauptstraße 20\, Bretzfeld\, 74626\, Deutschland
CATEGORIES:Besentermine
ORGANIZER;CN="Weingut Weihbrecht":MAILTO:info@weingut-weihbrecht.de
END:VEVENT
BEGIN:VEVENT
DTSTART;VALUE=DATE:20250108
DTEND;VALUE=DATE:20250113
DTSTAMP:20260421T143247
CREATED:20241119T084519Z
LAST-MODIFIED:20241119T084519Z
UID:2231-1736294400-1736726399@weingueter-bretzfeld.de
SUMMARY:Besen - Schwab
DESCRIPTION:Unsere hausgemachten Speisen und Gerichte passen perfekt zu unseren Weinen. Für unsere Gäste lassen wir uns immer wieder etwas Besonderes einfallen – lassen Sie sich vom reichhaltigen Angebot in unserer Weinstube überraschen!
URL:https://weingueter-bretzfeld.de/veranstaltung/besen-schwab/
LOCATION:Weingut Schwab\, Wassergasse 4\, Bretzfeld\, 74626\, Deutschland
CATEGORIES:Besentermine
ORGANIZER;CN="Weingut%09Schwab":MAILTO:kontakt@schwab-wein.de
END:VEVENT
BEGIN:VEVENT
DTSTART;VALUE=DATE:20250124
DTEND;VALUE=DATE:20250125
DTSTAMP:20260421T143247
CREATED:20241120T073629Z
LAST-MODIFIED:20241120T073629Z
UID:2270-1737676800-1737763199@weingueter-bretzfeld.de
SUMMARY:Winetasting Musik im Glas - Schwab
DESCRIPTION:Weinprobe mit Besenbuffet (mit Anmeldung)
URL:https://weingueter-bretzfeld.de/veranstaltung/winetasting-musik-im-glas-schwab/
LOCATION:Weingut Schwab\, Wassergasse 4\, Bretzfeld\, 74626\, Deutschland
CATEGORIES:Weinevents
ORGANIZER;CN="Weingut%09Schwab":MAILTO:kontakt@schwab-wein.de
END:VEVENT
BEGIN:VEVENT
DTSTART;VALUE=DATE:20250130
DTEND;VALUE=DATE:20250204
DTSTAMP:20260421T143247
CREATED:20241120T080938Z
LAST-MODIFIED:20241120T080938Z
UID:2325-1738195200-1738627199@weingueter-bretzfeld.de
SUMMARY:Besen - Weihbrecht
DESCRIPTION:Unsere Besenwirtschaft gibt es seit 1983\nRegional und traditionell \nEinmal im Monat öffnen wir unsere Besenwirtschaft (Weinstube) und laden Sie ein unsere edlen Weine und vielseitigen Besengerichte vor Ort zu genießen. Besuchen Sie uns nach einer Wanderung im Himmelreich\, oder mit netten Freunden am Abend.
URL:https://weingueter-bretzfeld.de/veranstaltung/besen-weihbrecht-2/
LOCATION:Weingut Weihbrecht\, Hauptstraße 20\, Bretzfeld\, 74626\, Deutschland
CATEGORIES:Besentermine
ORGANIZER;CN="Weingut Weihbrecht":MAILTO:info@weingut-weihbrecht.de
END:VEVENT
END:VCALENDAR