BEGIN:VCALENDAR
VERSION:2.0
PRODID:-//Die Weingüter Bretzfeld e.V. - ECPv6.15.20//NONSGML v1.0//EN
CALSCALE:GREGORIAN
METHOD:PUBLISH
X-ORIGINAL-URL:https://weingueter-bretzfeld.de
X-WR-CALDESC:Veranstaltungen für Die Weingüter Bretzfeld e.V.
REFRESH-INTERVAL;VALUE=DURATION:PT1H
X-Robots-Tag:noindex
X-PUBLISHED-TTL:PT1H
BEGIN:VTIMEZONE
TZID:Europe/Berlin
BEGIN:DAYLIGHT
TZOFFSETFROM:+0100
TZOFFSETTO:+0200
TZNAME:CEST
DTSTART:20240331T010000
END:DAYLIGHT
BEGIN:STANDARD
TZOFFSETFROM:+0200
TZOFFSETTO:+0100
TZNAME:CET
DTSTART:20241027T010000
END:STANDARD
BEGIN:DAYLIGHT
TZOFFSETFROM:+0100
TZOFFSETTO:+0200
TZNAME:CEST
DTSTART:20250330T010000
END:DAYLIGHT
BEGIN:STANDARD
TZOFFSETFROM:+0200
TZOFFSETTO:+0100
TZNAME:CET
DTSTART:20251026T010000
END:STANDARD
BEGIN:DAYLIGHT
TZOFFSETFROM:+0100
TZOFFSETTO:+0200
TZNAME:CEST
DTSTART:20260329T010000
END:DAYLIGHT
BEGIN:STANDARD
TZOFFSETFROM:+0200
TZOFFSETTO:+0100
TZNAME:CET
DTSTART:20261025T010000
END:STANDARD
END:VTIMEZONE
BEGIN:VEVENT
DTSTART;VALUE=DATE:20250227
DTEND;VALUE=DATE:20250304
DTSTAMP:20260421T112448
CREATED:20241120T081016Z
LAST-MODIFIED:20241120T081016Z
UID:2327-1740614400-1741046399@weingueter-bretzfeld.de
SUMMARY:Besen - Weihbrecht
DESCRIPTION:Unsere Besenwirtschaft gibt es seit 1983\nRegional und traditionell \nEinmal im Monat öffnen wir unsere Besenwirtschaft (Weinstube) und laden Sie ein unsere edlen Weine und vielseitigen Besengerichte vor Ort zu genießen. Besuchen Sie uns nach einer Wanderung im Himmelreich\, oder mit netten Freunden am Abend.
URL:https://weingueter-bretzfeld.de/veranstaltung/besen-weihbrecht-3/
LOCATION:Weingut Weihbrecht\, Hauptstraße 20\, Bretzfeld\, 74626\, Deutschland
CATEGORIES:Besentermine
ORGANIZER;CN="Weingut Weihbrecht":MAILTO:info@weingut-weihbrecht.de
END:VEVENT
BEGIN:VEVENT
DTSTART;VALUE=DATE:20250312
DTEND;VALUE=DATE:20250317
DTSTAMP:20260421T112448
CREATED:20241119T085121Z
LAST-MODIFIED:20241119T085121Z
UID:2236-1741737600-1742169599@weingueter-bretzfeld.de
SUMMARY:Besen - Schwab
DESCRIPTION:Unsere hausgemachten Speisen und Gerichte passen perfekt zu unseren Weinen. Für unsere Gäste lassen wir uns immer wieder etwas Besonderes einfallen – lassen Sie sich vom reichhaltigen Angebot in unserer Weinstube überraschen!
URL:https://weingueter-bretzfeld.de/veranstaltung/besen-schwab-3/
LOCATION:Weingut Schwab\, Wassergasse 4\, Bretzfeld\, 74626\, Deutschland
CATEGORIES:Besentermine
ORGANIZER;CN="Weingut%09Schwab":MAILTO:kontakt@schwab-wein.de
END:VEVENT
BEGIN:VEVENT
DTSTART;VALUE=DATE:20250320
DTEND;VALUE=DATE:20250323
DTSTAMP:20260421T112448
CREATED:20241030T081532Z
LAST-MODIFIED:20241030T081532Z
UID:2158-1742428800-1742687999@weingueter-bretzfeld.de
SUMMARY:Rebenglühen 2025
DESCRIPTION:Der Verein „Die Weingüter Bretzfeld e.V.“ plant für März 2025 wiedermit seinem beliebten Freiluft-Event im Weinberg: „Rebenglühen Bretzfeld – Wenn der Berg fürden Wein brennt.“ \n​ \nWieder findet das Event in einer anderen Bretzfelder Weinlage\, dieses Maldem „Siebeneicher Himmelreich“ statt. An diesem Berg findet das Rebenglühen zum 6.Mal. Die acht Weingüter und die Weinkellerei Hohenlohe eG bewirten IhreGäste an insgesamt 10 Ständen mit rund 70 verschiedenen Weinen und 18 verschiedenenSpeisen. Damit halten die Wengerter am bewährten Konzept mit Lichtspektakel\, Feuer\,Genuss\, Vielfalt und schöner Stimmung im Weinberg fest. Der knapp 4 km lange Rundweg führtüber den gesamten Weinberg. \n  \nhttps://www.rebengluehen.de/
URL:https://weingueter-bretzfeld.de/veranstaltung/rebengluehen-2025/
CATEGORIES:Weinevents
ORGANIZER;CN="Weingut%09Busch":MAILTO:info@karlbusch-wein.de
END:VEVENT
END:VCALENDAR