BEGIN:VCALENDAR
VERSION:2.0
PRODID:-//Die Weingüter Bretzfeld e.V. - ECPv6.15.20//NONSGML v1.0//EN
CALSCALE:GREGORIAN
METHOD:PUBLISH
X-WR-CALNAME:Die Weingüter Bretzfeld e.V.
X-ORIGINAL-URL:https://weingueter-bretzfeld.de
X-WR-CALDESC:Veranstaltungen für Die Weingüter Bretzfeld e.V.
REFRESH-INTERVAL;VALUE=DURATION:PT1H
X-Robots-Tag:noindex
X-PUBLISHED-TTL:PT1H
BEGIN:VTIMEZONE
TZID:Europe/Berlin
BEGIN:DAYLIGHT
TZOFFSETFROM:+0100
TZOFFSETTO:+0200
TZNAME:CEST
DTSTART:20240331T010000
END:DAYLIGHT
BEGIN:STANDARD
TZOFFSETFROM:+0200
TZOFFSETTO:+0100
TZNAME:CET
DTSTART:20241027T010000
END:STANDARD
BEGIN:DAYLIGHT
TZOFFSETFROM:+0100
TZOFFSETTO:+0200
TZNAME:CEST
DTSTART:20250330T010000
END:DAYLIGHT
BEGIN:STANDARD
TZOFFSETFROM:+0200
TZOFFSETTO:+0100
TZNAME:CET
DTSTART:20251026T010000
END:STANDARD
BEGIN:DAYLIGHT
TZOFFSETFROM:+0100
TZOFFSETTO:+0200
TZNAME:CEST
DTSTART:20260329T010000
END:DAYLIGHT
BEGIN:STANDARD
TZOFFSETFROM:+0200
TZOFFSETTO:+0100
TZNAME:CET
DTSTART:20261025T010000
END:STANDARD
END:VTIMEZONE
BEGIN:VEVENT
DTSTART;VALUE=DATE:20250730
DTEND;VALUE=DATE:20250804
DTSTAMP:20260419T144105
CREATED:20241120T075629Z
LAST-MODIFIED:20241120T075629Z
UID:2296-1753833600-1754265599@weingueter-bretzfeld.de
SUMMARY:Hohenloher Scheune - Birkert
DESCRIPTION:Ehemaliges Gelände der Landesgartenschau zwischen Öhringen und Cappel. \nMittwoch bis Samstag von 17 bis 21 Uhr.\nSonn- und Feiertag von 12 bis 20 Uhr.
URL:https://weingueter-bretzfeld.de/veranstaltung/hohenloher-scheune-birkert/
LOCATION:Hohenloher Scheune\, Felsenkeller 11\, Cappelaue\, 74613
CATEGORIES:Hohenloher Scheune
ORGANIZER;CN="Weingut Birkert":MAILTO:info@weingut-birkert.com
END:VEVENT
BEGIN:VEVENT
DTSTART;VALUE=DATE:20250731
DTEND;VALUE=DATE:20250805
DTSTAMP:20260419T144105
CREATED:20241120T081314Z
LAST-MODIFIED:20241120T081314Z
UID:2337-1753920000-1754351999@weingueter-bretzfeld.de
SUMMARY:Besen - Weihbrecht
DESCRIPTION:Unsere Besenwirtschaft gibt es seit 1983\nRegional und traditionell \nEinmal im Monat öffnen wir unsere Besenwirtschaft (Weinstube) und laden Sie ein unsere edlen Weine und vielseitigen Besengerichte vor Ort zu genießen. Besuchen Sie uns nach einer Wanderung im Himmelreich\, oder mit netten Freunden am Abend.
URL:https://weingueter-bretzfeld.de/veranstaltung/besen-weihbrecht-8/
LOCATION:Weingut Weihbrecht\, Hauptstraße 20\, Bretzfeld\, 74626\, Deutschland
CATEGORIES:Besentermine
ORGANIZER;CN="Weingut Weihbrecht":MAILTO:info@weingut-weihbrecht.de
END:VEVENT
BEGIN:VEVENT
DTSTART;VALUE=DATE:20250802
DTEND;VALUE=DATE:20250803
DTSTAMP:20260419T144105
CREATED:20241120T081859Z
LAST-MODIFIED:20241120T081859Z
UID:2353-1754092800-1754179199@weingueter-bretzfeld.de
SUMMARY:Einmal Himmelreich und zurück! - Weihbrecht
DESCRIPTION:Wir laden Sie ein zu einem köstlichen Weinvergnügen ins Himmelreich. Wir verführen Ihre Sinne und bescheren Ihnen unvergessliche Geschmackserlebnisse. “Versuchungen soll man nachgeben\, wer weiß\, wann sie wiederkommen.” (Oscar Wilde) \n\nBeginn der Touren jeweils 13.00 Uhr auf unserem Weingut. \nAnmeldung erforderlich!
URL:https://weingueter-bretzfeld.de/veranstaltung/einmal-himmelreich-und-zurueck-weihbrecht-4/
LOCATION:Weingut Weihbrecht\, Hauptstraße 20\, Bretzfeld\, 74626\, Deutschland
CATEGORIES:Weinerlebnistouren
ORGANIZER;CN="Weingut Weihbrecht":MAILTO:info@weingut-weihbrecht.de
END:VEVENT
BEGIN:VEVENT
DTSTART;TZID=Europe/Berlin:20250806T180000
DTEND;TZID=Europe/Berlin:20250806T210000
DTSTAMP:20260419T144105
CREATED:20241120T073354Z
LAST-MODIFIED:20241120T073354Z
UID:2266-1754503200-1754514000@weingueter-bretzfeld.de
SUMMARY:Feierabend an der Vinothek - Schwab
DESCRIPTION:
URL:https://weingueter-bretzfeld.de/veranstaltung/feierabend-an-der-vinothek-schwab-6/
LOCATION:Weingut Schwab\, Wassergasse 4\, Bretzfeld\, 74626\, Deutschland
CATEGORIES:Weinevents
ORGANIZER;CN="Weingut%09Schwab":MAILTO:kontakt@schwab-wein.de
END:VEVENT
BEGIN:VEVENT
DTSTART;VALUE=DATE:20250813
DTEND;VALUE=DATE:20250818
DTSTAMP:20260419T144105
CREATED:20241119T085408Z
LAST-MODIFIED:20241119T085408Z
UID:2246-1755043200-1755475199@weingueter-bretzfeld.de
SUMMARY:Besen - Schwab
DESCRIPTION:Unsere hausgemachten Speisen und Gerichte passen perfekt zu unseren Weinen. Für unsere Gäste lassen wir uns immer wieder etwas Besonderes einfallen – lassen Sie sich vom reichhaltigen Angebot in unserer Weinstube überraschen!
URL:https://weingueter-bretzfeld.de/veranstaltung/besen-schwab-8/
LOCATION:Weingut Schwab\, Wassergasse 4\, Bretzfeld\, 74626\, Deutschland
CATEGORIES:Besentermine
ORGANIZER;CN="Weingut%09Schwab":MAILTO:kontakt@schwab-wein.de
END:VEVENT
BEGIN:VEVENT
DTSTART;TZID=Europe/Berlin:20250820T180000
DTEND;TZID=Europe/Berlin:20250820T210000
DTSTAMP:20260419T144105
CREATED:20241120T073443Z
LAST-MODIFIED:20241120T073443Z
UID:2268-1755712800-1755723600@weingueter-bretzfeld.de
SUMMARY:Feierabend an der Vinothek - Schwab
DESCRIPTION:
URL:https://weingueter-bretzfeld.de/veranstaltung/feierabend-an-der-vinothek-schwab-7/
LOCATION:Weingut Schwab\, Wassergasse 4\, Bretzfeld\, 74626\, Deutschland
CATEGORIES:Weinevents
ORGANIZER;CN="Weingut%09Schwab":MAILTO:kontakt@schwab-wein.de
END:VEVENT
END:VCALENDAR